BEGIN:VCALENDAR
VERSION:2.0
PRODID:-//Aalto University MBA Association - ECPv6.15.20//NONSGML v1.0//EN
CALSCALE:GREGORIAN
METHOD:PUBLISH
X-WR-CALNAME:Aalto University MBA Association
X-ORIGINAL-URL:https://www.aaltomba-association.com
X-WR-CALDESC:Events for Aalto University MBA Association
REFRESH-INTERVAL;VALUE=DURATION:PT1H
X-Robots-Tag:noindex
X-PUBLISHED-TTL:PT1H
BEGIN:VTIMEZONE
TZID:Europe/Helsinki
BEGIN:DAYLIGHT
TZOFFSETFROM:+0200
TZOFFSETTO:+0300
TZNAME:EEST
DTSTART:20240331T010000
END:DAYLIGHT
BEGIN:STANDARD
TZOFFSETFROM:+0300
TZOFFSETTO:+0200
TZNAME:EET
DTSTART:20241027T010000
END:STANDARD
BEGIN:DAYLIGHT
TZOFFSETFROM:+0200
TZOFFSETTO:+0300
TZNAME:EEST
DTSTART:20250330T010000
END:DAYLIGHT
BEGIN:STANDARD
TZOFFSETFROM:+0300
TZOFFSETTO:+0200
TZNAME:EET
DTSTART:20251026T010000
END:STANDARD
BEGIN:DAYLIGHT
TZOFFSETFROM:+0200
TZOFFSETTO:+0300
TZNAME:EEST
DTSTART:20260329T010000
END:DAYLIGHT
BEGIN:STANDARD
TZOFFSETFROM:+0300
TZOFFSETTO:+0200
TZNAME:EET
DTSTART:20261025T010000
END:STANDARD
END:VTIMEZONE
BEGIN:VEVENT
DTSTART;TZID=Europe/Helsinki:20250203T173000
DTEND;TZID=Europe/Helsinki:20250203T193000
DTSTAMP:20260421T073826
CREATED:20250127T171946Z
LAST-MODIFIED:20250127T171946Z
UID:1199-1738603800-1738611000@www.aaltomba-association.com
SUMMARY:Aalto University MBA Association Annual General Meeting 2025
DESCRIPTION:Aalto University MBA Association (AMA) is pleased to invite you to its Annual General Meeting (AGM) 2025. \n\nWhen: Monday  February 3\, 2025\, starting at 17.30 and ending at 19.30\nWhere: Aalto Executive Education Campus in Töölö\, Runeberginkatu 14–16\, 00100 Helsinki\, Main Entrance\, Room\n\nTBA Dear AMA Member\, We cordially invite you to attend the AMA AGM! At the meeting\, we will review the result for 2024\, budget proposal for 2025 and elect the board for 2025. \nAGM full agenda: \n\nOpening of the meeting\nElecting the Chair for the meeting.\nElecting the Secretary for the meeting.\nSelecting two (2) approvers of the minutes and two (2) vote counters.\nConfirming the legality and quorum of the meeting.\nPresentation of the 2024 annual report\, financial statements\, and the auditor’s report:\nDeciding on the approval of the 2024 financial statements.\nDeciding on the discharge of the persons responsible for the accounts from further liability.\nPresentation of the 2024 activities.\nOutline of the action plan and budget for 2025 for confirmation.\nDeciding the membership fees for 2025.\nDeciding on the number of Board Members.\nElection of the 2025 Board members of the Association.\nElection of the auditor and deputy auditor for the Association for 2025.\nAdjourn the meeting.\n\nNote: If you cannot make the meeting in-person you may attend remotely. In case of attending remotely\, please register for the event. \nAMA AGM Online Meeting link: Monday\, February 3 · 17.30 – 19.30; Time zone: Europe/Helsinki \nGoogle Meet joining info — Video call link: https://meet.google.com/rrx-ci… \nThe Association can always use an injection of new thinking\, ideas\, and energy. If you are interested in throwing your hat in the ring\, don’t hesitate to get in touch with the chair of the board Olga Marjasova: marjasova.olga@gmail.com \nWe look forward to welcoming you to the meeting! \nSincerely\, \nThe AMA Board \nVoit osallistua kokoukseen seuraavan linkin kautta: https://meet.google.com/rrx-cigz-mug \nVoit perua ilmoittautumisesi napsauttamalla seuraavaa linkkiä: https://byte.flomembers.com/mba-alumni/events/participate/cancel-registration?cancelCode=6fd0c2a2f585638ad8a74f9987b3f014
URL:https://www.aaltomba-association.com/event/aalto-university-mba-association-annual-general-meeting-2025/
END:VEVENT
BEGIN:VEVENT
DTSTART;TZID=Europe/Helsinki:20250318T173000
DTEND;TZID=Europe/Helsinki:20250318T190000
DTSTAMP:20260421T073826
CREATED:20250225T131111Z
LAST-MODIFIED:20250226T134003Z
UID:1216-1742319000-1742324400@www.aaltomba-association.com
SUMMARY:UPM Graphics - M&A as a Tool for Growth Strategy
DESCRIPTION:Aalto MBA Alumni Association is inviting you to meet Juuli Räsänen\, Vice President\, Graphics and Industrial Business Unit at UPM Raflatac. Juuli\, a graduate from Aalto EE Executive MBA program will share her journey from legal council to Business Director. Juuli is to speak about UPM Raflatac current growth strategy and how mergers and acquisitions are a key part of it. Please register via link sent by email to association members or using this link: FloMembers – UPM Graphics – M&A as a tool for growth strategy. \nTopic: UPM Graphics – M&A as a tool for growth strategy\nDate: Tuesday\, March 18\, 2025 at 17.30-19.00\nLocation: Aalto EE Töölö\, Room “Hiltunen”\, Runeberginkatu 14–16\, 00100 Helsinki\nLanguage: English \nThe event is for Association members. On how to become a member of the association\, please check here: Membership | Aalto University MBA Association \nJuuli Räsänen is Vice President of Graphics and Industrial Business Unit at UPM Raflatac. UPM Raflatac offers high-quality self-adhesive paper and film products including label materials\, graphics solutions and removable self-adhesive products. UPM Raflatac is one of UPM’s growth businesses and employs around 3\,100 people. Company sales reached almost EUR 1.5 billion (USD 1.6 billion) in 2023. \nAalto University MBA Alumni Association is 740+ community of Aalto MBAs and Executive MBAs that provides easygoing venue for networking and personal development. Association organizes regular\, high quality\, value adding social events like expert presentations\, company visits\, coaching sessions and grants annual scholarship. For more information\, please check the association’s webpage: www.aaltomba-association.com
URL:https://www.aaltomba-association.com/event/upm-graphics-ma-as-a-tool-for-growth-strategy/
END:VEVENT
BEGIN:VEVENT
DTSTART;TZID=Europe/Helsinki:20250416T173000
DTEND;TZID=Europe/Helsinki:20250416T190000
DTSTAMP:20260421T073826
CREATED:20250416T122605Z
LAST-MODIFIED:20250416T122605Z
UID:1226-1744824600-1744830000@www.aaltomba-association.com
SUMMARY:Data and Digitalization - Lauri Saarinen
DESCRIPTION:You welcome to join us to discuss Industrial Data and Digitalization with Lauri Saarinen. \nTime: 16.04.2025 at 17.30 \nPlace : Aalto EE Töölö \nThe seats are limited. Please register via link provided in an email sent to Aalto MBA Association alumni.
URL:https://www.aaltomba-association.com/event/data-and-digitalization-lauri-saarinen/
END:VEVENT
BEGIN:VEVENT
DTSTART;TZID=Europe/Helsinki:20250508T173000
DTEND;TZID=Europe/Helsinki:20250508T190000
DTSTAMP:20260421T073826
CREATED:20250508T051146Z
LAST-MODIFIED:20250508T052242Z
UID:1234-1746725400-1746730800@www.aaltomba-association.com
SUMMARY:AI and the Future of Work with CEO of DAIN Studios
DESCRIPTION:Aalto University MBA Association (AMA) is super excited to host Ulla Kruhse-Lehtonen who is CEO and co-founder of DAIN Studios and top leader in data and AI strategy. Ulla will share her journey from Economist to AI CEO and provide real world examples how AI redefines our workplaces and transforms businesses. This will be very insightful. Register via link\,  https://www.flomembers.com/mba… \n• Topic: AI and the Future of Work\nFrom Economist to AI CEO: My path in a changing world\nHow AI is redefining our workplaces\nReal-world examples of AI transforming businesses (DAIN use cases)\n• Date: Thursday\, May 8\, 2025 at 17:30-19:00\n• Location: Aalto EE Töölö\, Runeberginkatu 14–16\, 00100 Helsinki\n• Language: English \nCoffee and bun will be served starting from 17.00. Welcome! \nThe event is for Association paid members. On how to become a member of the Association and pay membership fee please check here: https://byte.flomembers.com/mb… \nUlla Kruhse-Lehtonen is a leader in data and AI strategy\, dedicated to helping companies unlock the full potential of AI for real business impact. As a co-founder of DAIN Studios\, a Finnish-German AI consultancy\, she has shaped and executed AI-driven transformations across industries\, guiding organizations into the future. Before DAIN\, Ulla headed advanced analytics departments at Sanoma and Nokia. Ulla holds a PhD in Economics from Aalto University. https://www.linkedin.com/in/ul… \nAalto University MBA Association (AMA) is 740+ community of Aalto EE (HSE\, TKK) MBAs and Executive MBAs that provides an interactive space for networking\, professional growth and personal success. AMA organizes value driven regular events such as expert presentations\, company visits\, coaching sessions and grants an annual scholarship. For more information\, please check the Association website and LinkedIn Page .
URL:https://www.aaltomba-association.com/event/ai-and-the-future-of-work-with-ceo-of-dain-studios-2/
END:VEVENT
BEGIN:VEVENT
DTSTART;TZID=Europe/Helsinki:20250521T173000
DTEND;TZID=Europe/Helsinki:20250521T193000
DTSTAMP:20260421T073826
CREATED:20250508T050853Z
LAST-MODIFIED:20250512T141639Z
UID:1232-1747848600-1747855800@www.aaltomba-association.com
SUMMARY:Use of AI to Supercharge Knowledge Work in the Government Sector
DESCRIPTION:Aalto University MBA Association (AMA) is inviting you to discuss use of AI in government sector with Henri Schildt\, Professor of Strategy at Aalto University \n• Topic: Use of AI to supercharge knowledge work in the government sector\n• Date: Wednesday\, May 21\, 2025 at 17:30-19:30\n• Location: Aalto EE Töölö\, Runeberginkatu 14–16\, 00100 Helsinki\n• Language: English \nCoffee and snack will be served from 17.00\, welcome! \nThis conversation focuses on the impact of artificial intelligence on professional knowledge work and management. It is based on Henri’s ongoing research conducted in collaboration with Finnish government and companies. He will also introduce his related start-up company and early product\, an “insights platform” built using large language models. At the center of recent developments is the shift from rule-based mechanical information processing towards “cognitive computing”\, probabilistic language processing with neural networks. Whereas the initial wave of SAAS services acted as “information pipelines” that store and transmit information\, the next wave of enterprise software will analyze\, synthesize\, process\, and act on knowledge contained in natural language. This means that the role of software will move from coordinating knowledge work increasingly to carrying out parts of it. While scary\, these changes can boost productivity and help elevate our focus from mundane tasks towards more strategic and value-adding activities. When developing and deploying new AI systems\, we have to make choices that will shape the future of organizing and management. \n.\n———————————————————————–\nAalto University MBA Association (AMA) is 740+ community of Aalto MBAs and Executive MBAs that provides an interactive space for networking\, professional growth and personal development. AMA organizes value driven regular events such as expert presentations\, company visits\, coaching sessions and grants an annual scholarship. For more information\, please check the Association website and LinkedIn Page . \nPlease register via link https://www.flomembers.com/mba… \nThe event is for Aalto University MBA Association paid members. On how to become a member and pay annual membership fee please visit Association webcite https://www.aaltomba-associati…
URL:https://www.aaltomba-association.com/event/ai-in-government-sector-with-henri-schildt-professor-of-strategy-at-aalto-university/
END:VEVENT
BEGIN:VEVENT
DTSTART;TZID=Europe/Helsinki:20250602T153000
DTEND;TZID=Europe/Helsinki:20250602T180000
DTSTAMP:20260421T073826
CREATED:20250508T120434Z
LAST-MODIFIED:20250508T125629Z
UID:1239-1748878200-1748887200@www.aaltomba-association.com
SUMMARY:Meet Wärtsilä Top Management to Discuss Innovation\, Digitalization and Sustainability
DESCRIPTION:Aalto University MBA Association welcomes members to visit Wärtsilä. Join us to discuss Innovation\, Digitalization\, Sustainability with Wärtsilä top management. You will have opportunity to meet Teemu Eronen\, Director\, Cyber Security\, Tal Katzav\, General Manager of the AI Centre of Excellence and Anu Sirkiä\, EVP of Marketing and Communication at Wärtsilä. Places are limited. Register via link. \n\nTopic: Innovation\, Digitalization\, Sustainability\nDate: Monday\, June 2nd\, 2025\nTime: 15.30-18.00\nLocation: Wärtsilä Head Quarters\, Acceleration Centre\, Hiililaiturinkuja 2\, Helsinki\nLanguage: English\n\nSpeakers’ presentation will be followed by interactive discussion and networking. The event is hosted by Aalto University MBA Association and Aalto University Executive Education and Professional Development. Welcome!
URL:https://www.aaltomba-association.com/event/meet-wartsila-top-management-to-discuss-innovation-digitalization-and-sustainability/
END:VEVENT
BEGIN:VEVENT
DTSTART;TZID=Europe/Helsinki:20250930T173000
DTEND;TZID=Europe/Helsinki:20250930T190000
DTSTAMP:20260421T073826
CREATED:20250812T083519Z
LAST-MODIFIED:20250812T083519Z
UID:1264-1759253400-1759258800@www.aaltomba-association.com
SUMMARY:Kaisa Kromhof\, Founder of Ment
DESCRIPTION:SAVE the DATE for this upcoming event \n \nSeptember 30\, 2025\, at 17.30-19.00 – Founder talk with Kaisa Kromhof\, Founder of Ment (Legal Tech\, exit to M-Files)
URL:https://www.aaltomba-association.com/event/kaisa-kromhof-founder-of-ment/
END:VEVENT
BEGIN:VEVENT
DTSTART;TZID=Europe/Helsinki:20250930T173000
DTEND;TZID=Europe/Helsinki:20250930T190000
DTSTAMP:20260421T073826
CREATED:20250911T094929Z
LAST-MODIFIED:20250911T094929Z
UID:1279-1759253400-1759258800@www.aaltomba-association.com
SUMMARY:Founder talk with Kaisa Kromhof\, ex General Counsel\, Founder of Ment\, a legal tech company\, that made an exit to M-Files
DESCRIPTION:Aalto University MBA Association (AMA) welcomes to Founder talk with Kaisa Kromhof\, ex General Counsel\, Founder of Ment\, a legal tech company\, that made an exit to M-Files. Kaisa is to share her story and experience as a Founder of super successful startup within legal tech and that made an exit to a large global company. Join\, this is to be super insightful! \n\nRegister via link https://www.flomembers.com/mba… \nLocation: Aalto University Töölö premises\, Runeberginkatu 14-16 Helsinki \nLOGISTICS \nPublic transport: The nearest tram stops (lines 1\, 2\, 4\, 10) and bus stops (lines 20\, 30\, 37\, 41\, 42\, 63\, 69\, 70\, 212\, 213\, 400) are in Runeberginkatu and Arkadiankatu. The closest metro station is Kamppi\, a 5-minute walk away. \nParking: Aalto University Töölö does not have visitor parking spaces. When arriving by car\, you can for example park in P-Kamppi parking hall\, located a few blocks from the premises. The parking hall is entered via Eteläinen Rautatiekatu. Some on-street parking spaces subject to a charge can be found near Aalto Töölö. \nBiking: If you arrive by bike\, you can leave it on the bike rack next to the main entrance of Aalto University Töölö. \n\nThe event is on Tuesday\, September 30th at 17.30-19.00\, at Aalto EE in Töölö\, Helsinki. Register
URL:https://www.aaltomba-association.com/event/founder-talk-with-kaisa-kromhof-ex-general-counsel-founder-of-ment-a-legal-tech-company-that-made-an-exit-to-m-files/
END:VEVENT
BEGIN:VEVENT
DTSTART;TZID=Europe/Helsinki:20251028T160000
DTEND;TZID=Europe/Helsinki:20251028T190000
DTSTAMP:20260421T073826
CREATED:20250812T083650Z
LAST-MODIFIED:20251008T112337Z
UID:1266-1761667200-1761678000@www.aaltomba-association.com
SUMMARY:Company visit to Elisa\, Pasila
DESCRIPTION:Aalto University MBA Association welcomes members to Elisa’s AI Showroom and Metaverse Lab to explore the forefront of digital innovation at Elisa’s headquarters in Pasila\, Helsinki. During your visit\, you’ll experience a curated journey through our AI Showroom and Metaverse Lab—spaces designed to showcase the latest in immersive technologies\, artificial intelligence\, and future-ready solutions. The event is on Tuesday October 28th. Event invitation has been sent with email. \nOctober 28\, 2025 – Company visit to Elisa\, Pasila
URL:https://www.aaltomba-association.com/event/company-visit-to-elisa-pasila/
END:VEVENT
BEGIN:VEVENT
DTSTART;TZID=Europe/Helsinki:20251112T173000
DTEND;TZID=Europe/Helsinki:20251112T190000
DTSTAMP:20260421T073826
CREATED:20250908T113801Z
LAST-MODIFIED:20250908T120254Z
UID:1277-1762968600-1762974000@www.aaltomba-association.com
SUMMARY:"Founder talk" - Iiro Kankaansyrjä_Transforming Europe waste industry with Kapasity Oy
DESCRIPTION:Welcome to new series of Association events called #Founder talks. The founders\, and owners of businesses are to present what big challenges they and their teams are solving and share personal experience as entrepreneurs. \nIiro Kankaansyrjä\, the owner and CEO of Kapasity Oy will present how Kapasity Oy is transforming Europe waste industry. \nRegister via link https://www.flomembers.com/mba… \nLocation: Aalto University Töölö premises\, Runeberginkatu 14-16 Helsinki \nLOGISTICS \nPublic transport: The nearest tram stops (lines 1\, 2\, 4\, 10) and bus stops (lines 20\, 30\, 37\, 41\, 42\, 63\, 69\, 70\, 212\, 213\, 400) are in Runeberginkatu and Arkadiankatu. The closest metro station is Kamppi\, a 5-minute walk away. \nParking: Aalto University Töölö does not have visitor parking spaces. When arriving by car\, you can for example park in P-Kamppi parking hall\, located a few blocks from the premises. The parking hall is entered via Eteläinen Rautatiekatu. Some on-street parking spaces subject to a charge can be found near Aalto Töölö. \nBiking: If you arrive by bike\, you can leave it on the bike rack next to the main entrance of Aalto University Töölö.
URL:https://www.aaltomba-association.com/event/founder-talk-iiro-kankaansyrja_transforming-europe-waste-industry-with-kapasity-oy/
END:VEVENT
END:VCALENDAR