BEGIN:VCALENDAR
VERSION:2.0
PRODID:-//Aalto University MBA Association - ECPv6.15.20//NONSGML v1.0//EN
CALSCALE:GREGORIAN
METHOD:PUBLISH
X-WR-CALNAME:Aalto University MBA Association
X-ORIGINAL-URL:https://www.aaltomba-association.com
X-WR-CALDESC:Events for Aalto University MBA Association
REFRESH-INTERVAL;VALUE=DURATION:PT1H
X-Robots-Tag:noindex
X-PUBLISHED-TTL:PT1H
BEGIN:VTIMEZONE
TZID:Europe/Helsinki
BEGIN:DAYLIGHT
TZOFFSETFROM:+0200
TZOFFSETTO:+0300
TZNAME:EEST
DTSTART:20130331T010000
END:DAYLIGHT
BEGIN:STANDARD
TZOFFSETFROM:+0300
TZOFFSETTO:+0200
TZNAME:EET
DTSTART:20131027T010000
END:STANDARD
BEGIN:DAYLIGHT
TZOFFSETFROM:+0200
TZOFFSETTO:+0300
TZNAME:EEST
DTSTART:20140330T010000
END:DAYLIGHT
BEGIN:STANDARD
TZOFFSETFROM:+0300
TZOFFSETTO:+0200
TZNAME:EET
DTSTART:20141026T010000
END:STANDARD
BEGIN:DAYLIGHT
TZOFFSETFROM:+0200
TZOFFSETTO:+0300
TZNAME:EEST
DTSTART:20150329T010000
END:DAYLIGHT
BEGIN:STANDARD
TZOFFSETFROM:+0300
TZOFFSETTO:+0200
TZNAME:EET
DTSTART:20151025T010000
END:STANDARD
BEGIN:DAYLIGHT
TZOFFSETFROM:+0200
TZOFFSETTO:+0300
TZNAME:EEST
DTSTART:20160327T010000
END:DAYLIGHT
BEGIN:STANDARD
TZOFFSETFROM:+0300
TZOFFSETTO:+0200
TZNAME:EET
DTSTART:20161030T010000
END:STANDARD
END:VTIMEZONE
BEGIN:VEVENT
DTSTART;TZID=Europe/Helsinki:20150505T163000
DTEND;TZID=Europe/Helsinki:20150505T180000
DTSTAMP:20260422T044519
CREATED:20150318T095512Z
LAST-MODIFIED:20150318T102836Z
UID:279-1430843400-1430848800@www.aaltomba-association.com
SUMMARY:MBA Cohort Event
DESCRIPTION:Aalto EE and Aalto University MBA Alumni Association Board arrange Aalto MBA Cohort Event on May 5\, 2015 at 16:00 – 18:15. Come meet old MBA class friends and colleagues and hear presentation from Dr. Pekka Mattila about Managing ups and downs of the executive career. After the official program MBA Cohorts are welcome to arrange dinner for their own fellow students. \nTimetable \n16:00 – 16:30 Sparkling & networking \n16:30 – 18:00 Managing ups and downs of the executive career by Dr. Pekka Mattila \n18:00 – 18:15 Grand tour of Aalto EE’s new venues at Runeberginkatu \n18:15 – Dinner organized by each Cohort for its class students \nAbout the speaker  Dr. Pekka Mattila serves as the Group Managing Director of Aalto University Executive Education and as a Professor of Practice at the Aalto University School of Business. He mentors executives across Europe and Asia in the areas of strategic management\, marketing\, business innovation\, leadership and organizational culture. Mattila holds a doctorate and masters in sociology at the University of Helsinki\, and Executive MBA from the London Business School.
URL:https://www.aaltomba-association.com/event/mba-cohort-session/
LOCATION:Aalto EE\, Mechelininkatu 3\, Helsinki\, Finland
END:VEVENT
BEGIN:VEVENT
DTSTART;TZID=Europe/Helsinki:20150408T164500
DTEND;TZID=Europe/Helsinki:20150408T184500
DTSTAMP:20260422T044519
CREATED:20150318T100005Z
LAST-MODIFIED:20150318T100005Z
UID:278-1428511500-1428518700@www.aaltomba-association.com
SUMMARY:Company visit: Nordea and Kasvu Open
DESCRIPTION:Event invitation – Nordea and Kasvu Open: Coaching Small Businesses for Growth on April 8 \nAalto University MBA Alumni Association Board and Nordea Bank Finland cordially invite the MBA Alumni to a joint event with Kasvu Open\, a national initiative to coach and boost the growth of promising small companies. \nKasvu Open is looking to engage especially internationally experienced business leaders\, to support the movement as voluntary coaches to small companies. We believe this could be a great opportunity to our senior and international alumni to give back and support the business community. Some of our alumni are already involved and have had great fun! \nThe presentations will be followed by time for Q&A as well as networking and refreshments. Event is in English. \nRegister early to ensure your place as the event is limited to 50 participants. https://www.flomembers.com/mba-alumni/events/register/45c48cce2e2d7fbdea1afc51c7c6ad26 \nProgram  \n4.45 Registration \n5.00 Welcome / Nordea\, Jussi Pajala \n5.30 Kasvu Open Presentation\, Nina Rautiainen \n6.00 Q&A Networking and Refreshments \nAbout the Speakers \nJussi Pajala is Head of Helsinki Corporate Area of Nordea\, the largest financial services group in Northern Europe with a leading position within corporate and institutional banking as well as retail banking and private banking.  Jussi has long experience in banking ranging from Markets activities to senior management positions in Retail Banking. \nNina Rautiainen is a business accelerator and executive coach. She has had strong input to the Kasvu Open team\, especially the localized “Kasvupolku” –method launched in 2013 and taken into use in over 20 ecosystems around Finland this year. Nina’s skills include creating value in networks and building teams for success. She is a member of the Board of Executives at the Finnish mobile operator DNA with main responsibility in corporate HR functions. Nina holds a Master of Science in Adult Education from Helsinki University and is currently the Chairman of the Board at Kasvun Roihu Ltd founded in 2011. Kasvun Roihu is the authorized partner of Kasvu Open\, www.kasvuopen.fi/en
URL:https://www.aaltomba-association.com/event/company-visit-nordea-and-kasvu-open/
LOCATION:Nordea Bank Finland\, Mannerheimintie 7 (Kalevan Talo\, corner entrance)\, Helsinki\, Finland
END:VEVENT
BEGIN:VEVENT
DTSTART;TZID=Europe/Helsinki:20150319T163000
DTEND;TZID=Europe/Helsinki:20150319T190000
DTSTAMP:20260422T044519
CREATED:20150226T112845Z
LAST-MODIFIED:20150226T112845Z
UID:261-1426782600-1426791600@www.aaltomba-association.com
SUMMARY:Varma: Business Transformation and Change Management
DESCRIPTION:Aalto University MBA Alumni Association Board and Varma Mutual Pension Insurance Company cordially invite you to hear from leading experts about Business Transformation and Change Management. The presentations will be followed by time for Q&A as well as networking and refreshments. \nPlace: Varma Mutual Pension Insurance Company\, Salmisaarenranta 11\, Helsinki \nTime: Thursday March 19\, 2015 \nRegister now to ensure your place. \nDeadline for registration is March 15\, 2015 \nProgram Timetable \n16:30-17:00 Registration\n17:00-17:15 Welcome\, SVP\, Finance Pekka Pajamo\, Varma\n17:15-17:45 Building a Nordic Steel Giant – Merging the Ruukki and SSAB brands\, Director\, Corporate Identity and Digital Communications\, Riikka Friman\, SSAB Plc\n17:45-18:15 Change Management and Transformation – How to Successfully Lead Change\, CEO\, Helka Pirinen\, People & Leadership Consulting Oy\n18:15-19:00 Networking \nAbout the Speakers: \nPekka Pajamo is Senior Vice President of Finance at Varma. Previously he has worked as Partner at KPMG Ab. Varma Mutual Pension Insurance Company is the largest earnings-related pension insurer and private investor in Finland. \nRiikka Friman is Director\, Corporate Identity and Digital Communications of SSAB\, a Nordic and US-based steel company operating in 50 countries. Riikka is expert in corporate and product branding strategies and brand mergers. \nHelka Pirinen is CEO and founder of People Leadership Consulting PLC Oy. Helka works as management consultant and leadership coach. She has over 14 years of experience in business consulting (KPMG\, Capgemini) and leadership development. She helps her customers to lead transformations successfully. Helka has written a book about Change Management ”Esimies muutoksen johtajana” published November 2014 (Talentum).
URL:https://www.aaltomba-association.com/event/varma-business-transformation-and-change-management/
LOCATION:Varma\, Salmisaarenranta 11\, Helsinki\, Finland
CATEGORIES:Company visit
END:VEVENT
BEGIN:VEVENT
DTSTART;TZID=Europe/Helsinki:20150128T170000
DTEND;TZID=Europe/Helsinki:20150128T183000
DTSTAMP:20260422T044519
CREATED:20141204T174749Z
LAST-MODIFIED:20141204T174749Z
UID:250-1422464400-1422469800@www.aaltomba-association.com
SUMMARY:Annual General Meeting 2015
DESCRIPTION:Aalto University MBA Alumni Association  Annual General Meeting will be held on 28 January 2015 at AEE\, Mechelininkatu 3 C\, 00100 Helsinki from 5-6.30 pm. \nThe Annual General Meeting has the following agenda: \nThe Chairman of the Board or Vice Chairman\, or if both are absent\, another Board member opens the meeting \nThe chairman for the meeting is elected \nThe secretary for the meeting is elected \nTwo (2) approvers of the minutes and two (2) vote counters are selected \nThe legality and quorum of the meeting are confirmed \nThe annual report from the previous accounting period is presented \nThe financial statements\, the annual report and the auditor’s report from the previous accounting period is presented \nThe profit and loss statement from the previous accounting period is presented \nDeciding of the approval of the financial statements \nDeciding of the discharge of the persons responsible for the accounts from further liability is confirmed \nThe action plan and budget proposal for the accounting period is presented and confirmed \nDeciding of the membership fees for the accounting period \nThe budget proposal for the accounting period is presented \nDeciding of the approval of the action plan and budget for the accounting period \nDeciding of the number of Board members \nElecting the Board members of the Association \nElecting an auditor and deputy auditor for the Association \nHandling other matters stated in the invitation and agenda \nEach member of the Association has one (1) vote at the meeting. Unless stated otherwise in the rules of the Association\, matters are decided on a simple majority vote basis. If the vote is tied\, the chairman has a casting vote to decide the matter\, except in case of elections where in the event of a tied vote\, a tie decides the election. The vote must be anonymous if any member present so requires. \nA member’s vote cannot be transferred to another person by proxy. \nIf you plan to attend\, please register by 20 January. \nFor further information please write to info@mba-alumni.fi
URL:https://www.aaltomba-association.com/event/annual-general-meeting-2015/
LOCATION:AEE\, Mechelininkatu 3 C\, Helsinki \,  00100 \, Finland
CATEGORIES:Annual General Meeting
END:VEVENT
BEGIN:VEVENT
DTSTART;TZID=Europe/Helsinki:20150112T160000
DTEND;TZID=Europe/Helsinki:20150112T190000
DTSTAMP:20260422T044519
CREATED:20141204T175306Z
LAST-MODIFIED:20141204T180849Z
UID:252-1421078400-1421089200@www.aaltomba-association.com
SUMMARY:Professional development: How to obtain Success and Happiness in your life?
DESCRIPTION:Aalto University MBA Alumni Association cordially invites the Alumni of Aalto\, HSE and TKK MBA and eMBA programs to join us! \nRegister today as seating is limited to 80 participants. \nRegistration: HERE \nA panel discussion with key experts will widen our thinking about own capabilities so that we can better recognize opportunities in occasions and in ourselves. \nAfter brief presentations\, Pia Rautakorpi will facilitate a discussion with the panel on “How to be successful in your career”. For a fruitful panel discussion\, we encourage you to send your topics and/or questions in advance to info@mba-alumni.fi \nDiscussion will be followed by refreshments and networking.
URL:https://www.aaltomba-association.com/event/professional-development-how-to-obtain-success-and-happiness-in-your-life/
LOCATION:AEE\, Mechelininkatu 3 C\, Helsinki \,  00100 \, Finland
CATEGORIES:Professional development
END:VEVENT
BEGIN:VEVENT
DTSTART;TZID=Europe/Helsinki:20140523T180000
DTEND;TZID=Europe/Helsinki:20140523T180000
DTSTAMP:20260422T044519
CREATED:20140205T082458Z
LAST-MODIFIED:20140328T125527Z
UID:174-1400868000-1400868000@www.aaltomba-association.com
SUMMARY:MBA Gala
DESCRIPTION:Roaring 20s Gala\n Speakeasy will be open from 6pm to midnight on Friday\, May 23 at  \nKatajanokan Kasino \n \n\nLaivastokatu 1\, Helsinki \nRegister HERE! \n\n\nAward winning speaker André Noël Chaker will deliver the keynote address \n\n\n“The five things they don’t teach at Business School in Finland”\n \n“André is one of us. He is an MBA on the class of 1997 who finished his degree in 2000. He is originally from Canada and has had a distinguished career as an executive in the international sports\, mobile/ICT and gaming/lottery sectors. He is currently the Senior Advisor to the President of Veikkaus Oy. André has also been very active on the Finnish speakers circuit over the past three years. He was twice voted speaker of the year in Finland (Speakers Forum 2012 and Evento Awards 2014). Most of his talks are based on his latest bestselling book – The Finnish Miracle.” \n  \n\nCome dressed in your most GLAMOROUS 1920s attire as there will be a \nGrand Prize for most authentic Roaring 20s style costume!\n \nNeed ideas?  \n\nLive music with a special performance by professional dance group\, Midnight Follies\nfollowed by dance lessons for those that are ready to get a wiggle on! \n\nTicket price 85 euro per person includes welcome drink\, 3 course buffet\, 2 glasses of wine \n \nFor more information contact us at info@mba-alumni.fi. \nOur sponsor:
URL:https://www.aaltomba-association.com/event/mba-gala/
LOCATION:Katajanokan Kasino\, Laivastokatu 1\, Helsinki\, 00160\, Finland
END:VEVENT
BEGIN:VEVENT
DTSTART;TZID=Europe/Helsinki:20140424T170000
DTEND;TZID=Europe/Helsinki:20140424T183000
DTSTAMP:20260422T044519
CREATED:20140414T074352Z
LAST-MODIFIED:20140414T074708Z
UID:239-1398358800-1398364200@www.aaltomba-association.com
SUMMARY:Company visit to Veikkaus
DESCRIPTION:MBA Alumni Company visit to Veikkaus\nTime: April 24th at 17:00-18:30\nAddress: Karhunkierros 4\, Vantaa \nVeikkaus is a Finnish lottery for Finnish players\, offering high quality gaming entertainment reliably and responsibly\, producing each day over EUR 1.4 million of lottery revenue for the society. For Finns\, Veikkaus is not only a gaming company with long tradition but also a significant part of Finnish society. \nVeikkaus is also running Finland’s largest consumer web shop. Antti Tiihonen\, VP in Digital Sales\, will tell how e-commerce is run here and now and what will be happening in the future. Please note that the presentation will be in Finnish. \nRegister today at https://www.tietokannat.info/events/?client=mba-alumni \nRegistration open to HSE\, TKK and Aalto University MBA Alumni Association members \nProgram: \n17:00 Registration\n17:15 Presentation by Antti Tiihonen\n18:00 Questions and Answers\n18-18:30 Networking and coffee \n 
URL:https://www.aaltomba-association.com/event/company-visit-to-veikkaus/
LOCATION:Vaikkaus\, Karhunkierros 4\, Vantaa
CATEGORIES:Company visit
END:VEVENT
BEGIN:VEVENT
DTSTART;TZID=Europe/Helsinki:20140312T181500
DTEND;TZID=Europe/Helsinki:20140312T193000
DTSTAMP:20260422T044519
CREATED:20140123T084115Z
LAST-MODIFIED:20140225T092910Z
UID:131-1394648100-1394652600@www.aaltomba-association.com
SUMMARY:AGM
DESCRIPTION:The Annual General Meeting of the Aalto University Alumni Association will be held in accordance with the by-laws of the Association on 12th March 2014. \nAll MBA Alumni from Aalto University MBA programs\, HSE or TKK MBA programs are cordially invited the Annual General Meeting on March 12\, 2014 at Messukeskus main office\, Messuaukio 1. The AGM will start at 18.15 following the company visit. Voting rights are granted to all paid members of the Association. \nPlease register HERE. \nAgenda \n– Open the meeting\n– Elect the chairman\n– Elect the secretary for the meeting\n– Select two (2) approvers of the minutes and two (2) vote counters\n– Confirm the legality and quorum of the meeting\n– Presentation of the balance sheet from the previous accounting period\n– Presentation of the profit and loss statement from the previous accounting period\n– Discharge the Treasurer and auditor from responsibility for the accounts\n– Presentation of the action plan for the accounting period for confirmation\n– Deciding the membership fees for the accounting period\n– Electing the Board members of the Association\n– Electing an auditor for the Association\n– Handling other matters stated in the invitation and agenda\n– Adjourn the meeting \nBoard nominations \nElection of the Board is held at each AGM. If you are interested in more information about being a Board member or would like to nominate a classmate for this important role\, please send an email to the Head of the Nominating committee Juha Wiskari juha.wiskari@greatbrains.fi or info@mba-alumni.fi. Or to learn more about the responsibilities of a Board member\, you are welcome to contact us at info@mba-alumni.fi or call Barbara Ready\, Chair\, at 050 567 5050. \nFurther info \nQuestions should be sent to info@mba-alumni.fi or you are welcome to call Barbara Ready\, Chair of the Aalto MBA Alumni Association at 050-567 5050\nBarbara Ready-Vakeva\nbarbara.ready@welho.com \nThe main office of Messukeskus is the red brick building on the left side of Messuaukio. See instructions here. \nParking: Messukeskus parking garage
URL:https://www.aaltomba-association.com/event/annual-general-meeting/
CATEGORIES:Annual General Meeting
END:VEVENT
BEGIN:VEVENT
DTSTART;TZID=Europe/Helsinki:20140312T043000
DTEND;TZID=Europe/Helsinki:20140312T180000
DTSTAMP:20260422T044519
CREATED:20140225T091114Z
LAST-MODIFIED:20140225T092825Z
UID:205-1394598600-1394647200@www.aaltomba-association.com
SUMMARY:Company visit: Welcome to Finnish Fair Corporation
DESCRIPTION:THE MESSUKESKUS BUZZ: What can real encounters do for your business will be presented by Marketing & Communications Director Maria Mroue. \nTime: 16:30 to 18:00\nPlace: Messukeskus\, Messuaukio 1 (main entrance) \nPlease register here for the company visit before March 7. \nThe company visit will be followed refreshments and the Annual General Meeting (AGM) which begins at 18:15.
URL:https://www.aaltomba-association.com/event/company-visit-welcome-to-finnish-fair-corporation/
LOCATION:Messukeskus\, Messuaukio 1\, Helsinki\, Finland
END:VEVENT
BEGIN:VEVENT
DTSTART;TZID=Europe/Helsinki:20140212T170000
DTEND;TZID=Europe/Helsinki:20140212T190000
DTSTAMP:20260422T044519
CREATED:20140205T081926Z
LAST-MODIFIED:20140205T081926Z
UID:171-1392224400-1392231600@www.aaltomba-association.com
SUMMARY:Company visit - Remedy Entertainment
DESCRIPTION:How game development is like Breaking Bad: Cook\, Deal\, become the Kingpin\n\nRemedy Entertainment\, developers of Max Payne\, Death Rally\, Alan Wake and their upcoming Xbox One title Quantum Break\, have always taken inspiration from popular culture. Remedy’s Quantum Break will fuse gaming and television in a revolutionary new way.\n\nMatias Myllyrinne\, CEO at Remedy\, will discuss how a modern day game company should think about quality when creating content\, games as a service and adapting to distribution methods in the fast paced and ever changing game industry.\n\nPlease register with this LINK. At the link press the Calendar icon under “Ilmoittaudu tapahtumaan”.\n(if link does not work register at: https://www.tietokannat.info/events/?client=mba-alumni)\n\nDate: Wednesday 12th February\, 2014\nTime: 17.00–19.00\nPlace: Remedy Entertainment Oy\, Kappelitie 8\, 02200 Espoo\nNotice: Use the main entrance (double doors under a multi-story window). Limited parking space.\n\nProgram:\n17.00 Registration\n17.15 Presentation by Matias Myllyrinne\n17.50 Q&A\n18.00–19.00 Networking and refreshments
URL:https://www.aaltomba-association.com/event/company-visit-remedy-entertainment/
LOCATION:Remedy Entertainment\, Kappelitie 8\, Espoo\, 02200 \, Finland
END:VEVENT
END:VCALENDAR