BEGIN:VCALENDAR
VERSION:2.0
PRODID:-//Aalto University MBA Association - ECPv6.15.20//NONSGML v1.0//EN
CALSCALE:GREGORIAN
METHOD:PUBLISH
X-WR-CALNAME:Aalto University MBA Association
X-ORIGINAL-URL:https://www.aaltomba-association.com
X-WR-CALDESC:Events for Aalto University MBA Association
REFRESH-INTERVAL;VALUE=DURATION:PT1H
X-Robots-Tag:noindex
X-PUBLISHED-TTL:PT1H
BEGIN:VTIMEZONE
TZID:Europe/Helsinki
BEGIN:DAYLIGHT
TZOFFSETFROM:+0200
TZOFFSETTO:+0300
TZNAME:EEST
DTSTART:20130331T010000
END:DAYLIGHT
BEGIN:STANDARD
TZOFFSETFROM:+0300
TZOFFSETTO:+0200
TZNAME:EET
DTSTART:20131027T010000
END:STANDARD
BEGIN:DAYLIGHT
TZOFFSETFROM:+0200
TZOFFSETTO:+0300
TZNAME:EEST
DTSTART:20140330T010000
END:DAYLIGHT
BEGIN:STANDARD
TZOFFSETFROM:+0300
TZOFFSETTO:+0200
TZNAME:EET
DTSTART:20141026T010000
END:STANDARD
BEGIN:DAYLIGHT
TZOFFSETFROM:+0200
TZOFFSETTO:+0300
TZNAME:EEST
DTSTART:20150329T010000
END:DAYLIGHT
BEGIN:STANDARD
TZOFFSETFROM:+0300
TZOFFSETTO:+0200
TZNAME:EET
DTSTART:20151025T010000
END:STANDARD
END:VTIMEZONE
BEGIN:VEVENT
DTSTART;TZID=Europe/Helsinki:20140312T043000
DTEND;TZID=Europe/Helsinki:20140312T180000
DTSTAMP:20260422T033359
CREATED:20140225T091114Z
LAST-MODIFIED:20140225T092825Z
UID:205-1394598600-1394647200@www.aaltomba-association.com
SUMMARY:Company visit: Welcome to Finnish Fair Corporation
DESCRIPTION:THE MESSUKESKUS BUZZ: What can real encounters do for your business will be presented by Marketing & Communications Director Maria Mroue. \nTime: 16:30 to 18:00\nPlace: Messukeskus\, Messuaukio 1 (main entrance) \nPlease register here for the company visit before March 7. \nThe company visit will be followed refreshments and the Annual General Meeting (AGM) which begins at 18:15.
URL:https://www.aaltomba-association.com/event/company-visit-welcome-to-finnish-fair-corporation/
LOCATION:Messukeskus\, Messuaukio 1\, Helsinki\, Finland
END:VEVENT
BEGIN:VEVENT
DTSTART;TZID=Europe/Helsinki:20140212T170000
DTEND;TZID=Europe/Helsinki:20140212T190000
DTSTAMP:20260422T033359
CREATED:20140205T081926Z
LAST-MODIFIED:20140205T081926Z
UID:171-1392224400-1392231600@www.aaltomba-association.com
SUMMARY:Company visit - Remedy Entertainment
DESCRIPTION:How game development is like Breaking Bad: Cook\, Deal\, become the Kingpin\n\nRemedy Entertainment\, developers of Max Payne\, Death Rally\, Alan Wake and their upcoming Xbox One title Quantum Break\, have always taken inspiration from popular culture. Remedy’s Quantum Break will fuse gaming and television in a revolutionary new way.\n\nMatias Myllyrinne\, CEO at Remedy\, will discuss how a modern day game company should think about quality when creating content\, games as a service and adapting to distribution methods in the fast paced and ever changing game industry.\n\nPlease register with this LINK. At the link press the Calendar icon under “Ilmoittaudu tapahtumaan”.\n(if link does not work register at: https://www.tietokannat.info/events/?client=mba-alumni)\n\nDate: Wednesday 12th February\, 2014\nTime: 17.00–19.00\nPlace: Remedy Entertainment Oy\, Kappelitie 8\, 02200 Espoo\nNotice: Use the main entrance (double doors under a multi-story window). Limited parking space.\n\nProgram:\n17.00 Registration\n17.15 Presentation by Matias Myllyrinne\n17.50 Q&A\n18.00–19.00 Networking and refreshments
URL:https://www.aaltomba-association.com/event/company-visit-remedy-entertainment/
LOCATION:Remedy Entertainment\, Kappelitie 8\, Espoo\, 02200 \, Finland
END:VEVENT
END:VCALENDAR